BEGIN:VCALENDAR
VERSION:2.0
PRODID:-//De Iuliis Wines - ECPv4.9.10//NONSGML v1.0//EN
CALSCALE:GREGORIAN
METHOD:PUBLISH
X-WR-CALNAME:De Iuliis Wines
X-ORIGINAL-URL:https://dewine.com.au
X-WR-CALDESC:Events for De Iuliis Wines
BEGIN:VTIMEZONE
TZID:Australia/Sydney
BEGIN:STANDARD
TZOFFSETFROM:+1100
TZOFFSETTO:+1000
TZNAME:AEST
DTSTART:20200404T160000
END:STANDARD
BEGIN:DAYLIGHT
TZOFFSETFROM:+1000
TZOFFSETTO:+1100
TZNAME:AEDT
DTSTART:20201003T160000
END:DAYLIGHT
END:VTIMEZONE
BEGIN:VEVENT
DTSTART;TZID=Australia/Sydney:20200307T110000
DTEND;TZID=Australia/Sydney:20200308T170000
DTSTAMP:20200225T093105
CREATED:20200201T012048Z
LAST-MODIFIED:20200221T015028Z
UID:88155-1583578800-1583686800@dewine.com.au
SUMMARY:Barrelled\, Wine + Beer + Food
DESCRIPTION:Barrelled at Surfest will again feature a great line up of Hunter Valley wine producers\, food from quality local restaurants as well as craft brewers plying their chilled sparkling brown product. The team from De Iuliis will once again be attending to bring our wines to the beach and showcase some of our best vino’s. \nIn its second year\, Barrelled will take place on the final weekend of Surfest – now in its 35th year\, on March 7th & 8th in Jefferson Park Merewether. Saturday will feature a twilight session extending from 11am-7pm\, with Sunday hours being 11am- 5pm. \nGeneral event entry to Barrelled is free\, and tastings of wine and beer are available by purchasing a souvenir festival tumbler and vouchers\, for tastings at the event. \nThe popular Barrelled Business Class Bar will again return\, with limited seating in a private marquee. It will feature two hour sessions\, and a line up of premium wines not being tasted at individual winery stalls\, as well as including craft beers for the first time. \nWe hope to see you there! \n \n
URL:https://dewine.com.au/event/barrelled-2/
LOCATION:Jefferson Park\, Merewether\, Frederick Street\, Merewether
ATTACH;FMTTYPE=image/jpeg:https://dewine.com.au/wp-content/uploads/2020/01/Barrelled-logo-2020-758x396.jpg
ORGANIZER;CN="Hunter%20Valley%20Events":MAILTO:gus@huntervalleyevents.com.au
END:VEVENT
BEGIN:VEVENT
DTSTART;TZID=Australia/Sydney:20200506T183000
DTEND;TZID=Australia/Sydney:20200506T220000
DTSTAMP:20200225T093105
CREATED:20200201T002903Z
LAST-MODIFIED:20200221T052607Z
UID:92863-1588789800-1588802400@dewine.com.au
SUMMARY:De Iuliis New Release Wine Dinner | The Herring Room\, Manly
DESCRIPTION:Wednesday\, 6 May 2020\nWe are inviting you to join us in Manly this May for an evening of beautiful food and wine at The Herring Room. \nThe Herring Room is family owned & run by locals who are veterans of the industry. Sydney’s much loved seafood restaurant is located just off Manly beach\, in a landmark site that locals have long admired. It is set in a 1920’s inspired space with an emphasis on good old fashioned hospitality. \nThe Herring Room proudly lists the provenance of all of its seafood\, selecting only the highest quality from sustainable & environmentally sensitive fisheries. \nAll seafood is sourced locally from Australia & New Zealand & is matched with the best of local\, seasonal & sustainable produce. \nhttps://theherringroom.com.au/\n \nMike and the team from De Iuliis Wines will be showcasing a range of pre-release\, new-release and museum wines that have been thoughtfully paired with an exceptional five-course degustation menu. Throughout the evening you will have the opportunity to taste and purchase a range of award-winning wines\, featuring medal and Trophy winners\, including our 2018 Shiraz recently featured in James Halliday’s Top 100 Wines of 2019. \nWatch this space\, the menu will be available soon! \nSecure your seat before May 1st to ensure you do not miss out on this fabulous evening. \n \n
URL:https://dewine.com.au/event/the-herring-room-new-release-wine-dinner/
LOCATION:The Herring Room\, 94 Pittwater Road\, Manly\, NSW\, 2095\, Australia
ATTACH;FMTTYPE=image/jpeg:https://dewine.com.au/wp-content/uploads/2020/02/DE_THR_EVENT_COVER.jpg
ORGANIZER;CN="De%20Iuliis%20Wines":MAILTO:sales@dewine.com.au
END:VEVENT
BEGIN:VEVENT
DTSTART;TZID=Australia/Sydney:20200507T183000
DTEND;TZID=Australia/Sydney:20200507T220000
DTSTAMP:20200225T093105
CREATED:20200201T004408Z
LAST-MODIFIED:20200221T052642Z
UID:92868-1588876200-1588888800@dewine.com.au
SUMMARY:De Iuliis New Release Wine Dinner | Signal Box\, Newcastle
DESCRIPTION:Thursday\, 7 May 2020\nWe are inviting you to join us for a one-of-a-kind dining experience in the heart of Newcastle at the historic\, Signal Box Newcastle. \nPartners Andrew\, Dan\, George and Matt saw an amazing opportunity in the de-commissioned Newcastle Signal Box to create a unique\, fun and vibrant dining experience for Newcastle. The food at Signal Box is familiar and simple\, yet clever and done well. The guys take pride in doing things properly with just about everything leaving the kitchen made in-house and from scratch. From sauces\, stocks and pickles through to fresh juices\, chai and sodas\, the team pride themselves on doing it the hard way – something they believe is well worth the effort.\nhttps://signalbox.com.au/ \nMike and the team from De Iuliis Wines will be showcasing a range of pre-release\, new-release and museum wines that have been thoughtfully paired with an exceptional five-course degustation menu. Throughout the evening you will have the opportunity to taste and purchase a range of award-winning wines\, featuring medal and Trophy winners\, including our 2018 Shiraz recently featured in James Halliday’s Top 100 Wines of 2019. \nWatch this space\, the menu will be available soon! \nSecure your seat before May 1st to ensure you do not miss out on this fabulous evening. \n \n
URL:https://dewine.com.au/event/signal-box-newcastle-new-release-wine-dinner/
LOCATION:Signal Box Newcastle\, 155 Wharf Road\, Newcastle\, NSW\, 2300\, Australia
ATTACH;FMTTYPE=image/jpeg:https://dewine.com.au/wp-content/uploads/2020/02/DE_SB_EVENT_COVER.jpg
ORGANIZER;CN="De%20Iuliis%20Wines":MAILTO:sales@dewine.com.au
END:VEVENT
BEGIN:VEVENT
DTSTART;TZID=Australia/Sydney:20200513T183000
DTEND;TZID=Australia/Sydney:20200513T220000
DTSTAMP:20200225T093105
CREATED:20200201T004733Z
LAST-MODIFIED:20200221T052715Z
UID:92876-1589394600-1589407200@dewine.com.au
SUMMARY:De Iuliis New Release Wine Dinner | Alchemy Restaurant & Bar\, Brisbane
DESCRIPTION:Wednesday\, 13 May 2020\nWe are inviting you to join us in Brisbane this May for an evening of beautiful food and wine at Alchemy Restaurant & Bar. \nThe Alchemy Experience\nAlchemy Restaurant and Bar is an unique Australian dining experience. Located in a stunning position on the Brisbane River\, the venue has an atmosphere of relaxed elegance inspired by the exquisite cuisine and spectacular views.\nThe Chef\nBrad Jolly is regarded as one of Australia’s leading and most influential chef’s. Brad has won several international and national prestigious accolades\, including Four First place titles in the La Chaine des Rotisseurs in Paris. A culinary perfectionist\, Brad has worked alongside Marco Pierre White\, Eric Chavot and Jamie Oliver.\nhttps://www.alchemyrestaurant.com.au/story \nThe team from De Iuliis Wines will be showcasing a range of pre-release\, new-release and museum wines that have been thoughtfully paired with an exceptional five-course degustation menu. Throughout the evening you will have the opportunity to taste and purchase a range of award-winning wines. Featuring medal and Trophy winners\, including our 2018 Shiraz recently featured in James Halliday’s Top 100 Wines of 2019. \nWatch this space\, the menu will be available soon! \nSecure your seat before May 8th to ensure you do not miss out on this fabulous evening. \n \n
URL:https://dewine.com.au/event/alchemy-new-release-wine-dinner/
LOCATION:Alchemy Restaurant & Bar\, 175 Eagle Street\, Brisbane City\, QLD\, 4000\, Australia
ATTACH;FMTTYPE=image/jpeg:https://dewine.com.au/wp-content/uploads/2020/02/DE_AY_EVENT_COVER.jpg
ORGANIZER;CN="De%20Iuliis%20Wines":MAILTO:sales@dewine.com.au
END:VEVENT
BEGIN:VEVENT
DTSTART;TZID=Australia/Sydney:20200514T183000
DTEND;TZID=Australia/Sydney:20200514T220000
DTSTAMP:20200225T093105
CREATED:20200201T011012Z
LAST-MODIFIED:20200221T052746Z
UID:92884-1589481000-1589493600@dewine.com.au
SUMMARY:De Iuliis New Release Wine Dinner | Fish on Parkyn\, Mooloolaba
DESCRIPTION:Thursday\, 14 May 2020\nWe are inviting you to join us in Mooloolaba this May for an evening of beautiful food and wine at Fish on Parkyn. \nWe offer a contemporary dining experience with exceptional seafood from “Dock to Table.” Fish on Parkyn is in an icon of the Sunshine Coast dining scene\, 15 years young and still providing an inspired dining experience committed to local and seasonable seafood brought in daily from our dock only seconds away.  \nChef Andrej and his team are inspired by local export quality seafood chosen daily to accompany the seasonal fresh produce available.\n \nhttps://www.fishonparkyn.com.au/about \nThe team from De Iuliis Wines will be showcasing a range of pre-release\, new-release and museum wines that have been thoughtfully paired with an exceptional five-course degustation menu. Throughout the evening you will have the opportunity to taste and purchase a range of award-winning wines. Featuring medal and Trophy winners\, including our 2018 Shiraz recently featured in James Halliday’s Top 100 Wines of 2019. \nWatch this space\, the menu will be available soon! \nSecure your seat before May 8th to ensure you do not miss out on this fabulous evening. \n \n
URL:https://dewine.com.au/event/fish-on-parkyn-wine-dinner/
LOCATION:Fish on Parkyn\, 25 Parkyn Parade\, Mooloolaba\, QLD\, 4557\, Australia
ATTACH;FMTTYPE=image/jpeg:https://dewine.com.au/wp-content/uploads/2020/02/DE_FOP_EVENT_COVER-1.jpg
ORGANIZER;CN="De%20Iuliis%20Wines":MAILTO:sales@dewine.com.au
END:VEVENT
BEGIN:VEVENT
DTSTART;TZID=Australia/Sydney:20201024T110000
DTEND;TZID=Australia/Sydney:20201024T163000
DTSTAMP:20200225T093105
CREATED:20200101T015351Z
LAST-MODIFIED:20200221T035101Z
UID:92892-1603537200-1603557000@dewine.com.au
SUMMARY:Cork & Fork\, Wine + Butchery Lunch
DESCRIPTION:Cork & Fork 2020 Game of Feathers…\nAt De Iuliis we do things differently. We’re not bound by tradition. We make great wine. We have a bit of fun with it. We do things for everyone to enjoy. So let’s lunch… Cork & Fork\, this year we celebrate game and feathers! \nThis festival-style lunch is certain to attract a waitlist. Sign up below to receive event notifications\, please reference ‘Cork & Fork’ in the message field. \nWatch this space!! \n#madebymike #deiuliis #corkandfork #wine #butchery #hungerfordmeatco #binnoriedairy #longlunch #huntervalley \n\n                \n                        \n                            Contact Form\n                            \n                        \n                        \n                            \n                        Verify\n                            \n          \n            \n            \n            \n            \n            \n            \n            \n            \n            \n        \n                        \n                         jQuery(document).bind('gform_post_render'\, function(event\, formId\, currentPage){if(formId == 2) {if(typeof Placeholders != 'undefined'){\n                        Placeholders.enable();\n                    }} } );jQuery(document).bind('gform_post_conditional_logic'\, function(event\, formId\, fields\, isInit){} ); jQuery(document).ready(function(){jQuery(document).trigger('gform_post_render'\, [2\, 1]) } ); \n
URL:https://dewine.com.au/event/cork-fork-wine-butchery-lunch-2/
LOCATION:De Iuliis Wines\, 1616 Broke Road\, Pokolbin\, NSW\, 2320\, Australia
ATTACH;FMTTYPE=image/png:https://dewine.com.au/wp-content/uploads/2020/02/Game-of-Feathers-Full-Size.png
ORGANIZER;CN="De%20Iuliis%20Wines":MAILTO:sales@dewine.com.au
END:VEVENT
END:VCALENDAR